BEGIN:VCALENDAR
VERSION:2.0
PRODID:-//Templo Do Ser - ECPv6.15.16//NONSGML v1.0//EN
CALSCALE:GREGORIAN
METHOD:PUBLISH
X-WR-CALNAME:Templo Do Ser
X-ORIGINAL-URL:https://templodoser.org
X-WR-CALDESC:Eventos para Templo Do Ser
REFRESH-INTERVAL;VALUE=DURATION:PT1H
X-Robots-Tag:noindex
X-PUBLISHED-TTL:PT1H
BEGIN:VTIMEZONE
TZID:America/Sao_Paulo
BEGIN:STANDARD
TZOFFSETFROM:-0300
TZOFFSETTO:-0300
TZNAME:-03
DTSTART:20200101T000000
END:STANDARD
END:VTIMEZONE
BEGIN:VEVENT
DTSTART;TZID=America/Sao_Paulo:20210305T100000
DTEND;TZID=America/Sao_Paulo:20210305T110000
DTSTAMP:20260425T082721
CREATED:20210216T000952Z
LAST-MODIFIED:20210216T175302Z
UID:10000587-1614938400-1614942000@templodoser.org
SUMMARY:Aula de yoga – Hatha Vinyasa – Aberto ao público externo\, não incluso nas hospedagens.
DESCRIPTION:Hatha Vinyasa Yoga é um estilo de Yoga dinâmico e fluido que une as técnicas milenares do Hatha Yoga com a forma fluida de praticar chamada vinyasa\, técnica que combina os ásanas (posturas corporais psicofísicas) e o pránáyáma (exercícios respiratórios). Essa combinação entre movimento e respiração podem serem consideradas uma meditação em movimento.\nA prática de Yoga traz inúmeros benefícios à saúde física e emocional\, integrando corpo e mente em direção a um sentido de vida mais profundo. Dentre esses benefícios estão o melhoramento da disposição\, o fortalecimento do tônus muscular\, a melhora da qualidade do sono\, a redução do estresse\, o aumento da concentração\, a melhora da memória e elevação dos níveis de bem-estar. \nDuração de 1h.
URL:https://templodoser.org/evento/aula-de-yoga-hatha-vinyasa-aberto-ao-publico-externo-nao-incluso-nas-hospedagens-7/
LOCATION:SP
CATEGORIES:Yoga
END:VEVENT
BEGIN:VEVENT
DTSTART;TZID=America/Sao_Paulo:20210305T120000
DTEND;TZID=America/Sao_Paulo:20210307T170000
DTSTAMP:20260425T082721
CREATED:20210216T151511Z
LAST-MODIFIED:20210216T175412Z
UID:10000622-1614945600-1615136400@templodoser.org
SUMMARY:YOGA WEEKEND ILHABELA - IMERSÃO DE YOGA
DESCRIPTION:Uma imersão para a jornada de cura e transformação com práticas de yoga\, meditações ativas\, danças\, dinâmicas e vivências em grupo. Para uma experiência ainda mais rica\, além do ambiente de amor\, acolhimento e harmonia\, os participantes poderão desfrutar da energia da majestosa natureza. \nAs Experiências: \nAulas de Yoga \nVivências em grupo (praia) \nMeditação \nRoda de conversas \nDesconexão do caos urbano \nConexão interior \nDetox digital com vivência \n  \nPara dúvidas\, mais informações e reservas contate a equipe da Energy Travel \nE-Mail: contato@energytravel.com.br \nTelefone: +55 11 99889-3112 \nSite: www.energytravel.com.br
URL:https://templodoser.org/evento/yoga-weekend-ilhabela-imersao-de-yoga/
LOCATION:SP
CATEGORIES:Retiro
END:VEVENT
BEGIN:VEVENT
DTSTART;TZID=America/Sao_Paulo:20210305T160000
DTEND;TZID=America/Sao_Paulo:20210305T170000
DTSTAMP:20260425T082721
CREATED:20210115T141408Z
LAST-MODIFIED:20210115T141408Z
UID:10000239-1614960000-1614963600@templodoser.org
SUMMARY:Corpo e Consciência – Experimentação de Dança Intuitiva
DESCRIPTION:Essa experimentação de Dança Intuitiva tem como objetivo a liberdade de expressão corporal\, onde os movimentos fluem de forma orgânica sem parâmetros de certo ou errado. Tendo como referência o Yoga Dance que nos guia em um mergulho dançante além do corpo\, o encontro consigo mesma(o)!\nDuração de 1h.
URL:https://templodoser.org/evento/corpo-e-consciencia-experimentacao-de-danca-intuitiva-27/
LOCATION:SP
CATEGORIES:Aula Regular,Dança
END:VEVENT
BEGIN:VEVENT
DTSTART;TZID=America/Sao_Paulo:20210305T160000
DTEND;TZID=America/Sao_Paulo:20210305T170000
DTSTAMP:20260425T082721
CREATED:20210115T155313Z
LAST-MODIFIED:20210115T155313Z
UID:10000424-1614960000-1614963600@templodoser.org
SUMMARY:Corpo e Consciência – Experimentação de Dança Intuitiva
DESCRIPTION:Essa experimentação de Dança Intuitiva tem como objetivo a liberdade de expressão corporal\, onde os movimentos fluem de forma orgânica sem parâmetros de certo ou errado. Tendo como referência o Yoga Dance que nos guia em um mergulho dançante além do corpo\, o encontro consigo mesma(o)!\nDuração de 1h.
URL:https://templodoser.org/evento/corpo-e-consciencia-experimentacao-de-danca-intuitiva-8/
LOCATION:SP
CATEGORIES:Dança
END:VEVENT
BEGIN:VEVENT
DTSTART;TZID=America/Sao_Paulo:20210305T160000
DTEND;TZID=America/Sao_Paulo:20210305T170000
DTSTAMP:20260425T082721
CREATED:20210115T201852Z
LAST-MODIFIED:20210115T201852Z
UID:10000492-1614960000-1614963600@templodoser.org
SUMMARY:Corpo e Consciência – Experimentação de Dança Intuitiva
DESCRIPTION:Essa experimentação de Dança Intuitiva tem como objetivo a liberdade de expressão corporal\, onde os movimentos fluem de forma orgânica sem parâmetros de certo ou errado. Tendo como referência o Yoga Dance que nos guia em um mergulho dançante além do corpo\, o encontro consigo mesma(o)!\nDuração de 1h.
URL:https://templodoser.org/evento/corpo-e-consciencia-experimentacao-de-danca-intuitiva-8/
LOCATION:SP
CATEGORIES:Dança
END:VEVENT
END:VCALENDAR