BEGIN:VCALENDAR
VERSION:2.0
PRODID:-//Templo Do Ser - ECPv6.15.16//NONSGML v1.0//EN
CALSCALE:GREGORIAN
METHOD:PUBLISH
X-ORIGINAL-URL:https://templodoser.org
X-WR-CALDESC:Eventos para Templo Do Ser
REFRESH-INTERVAL;VALUE=DURATION:PT1H
X-Robots-Tag:noindex
X-PUBLISHED-TTL:PT1H
BEGIN:VTIMEZONE
TZID:America/Sao_Paulo
BEGIN:STANDARD
TZOFFSETFROM:-0300
TZOFFSETTO:-0300
TZNAME:-03
DTSTART:20250101T000000
END:STANDARD
END:VTIMEZONE
BEGIN:VEVENT
DTSTART;TZID=America/Sao_Paulo:20260202T173000
DTEND;TZID=America/Sao_Paulo:20260202T183000
DTSTAMP:20260425T010525
CREATED:20260114T141706Z
LAST-MODIFIED:20260114T141706Z
UID:10001394-1770053400-1770057000@templodoser.org
SUMMARY:Aulas regulares de Forró (quartas-feiras)
DESCRIPTION:As aulas de forró no Templo do Ser são um convite ao movimento consciente\, à alegria e à conexão por meio da dança. Com uma abordagem acolhedora e acessível\, os encontros trabalham ritmo\, coordenação e condução\, respeitando o tempo e o nível de cada pessoa. \nMais do que aprender passos\, o forró é vivenciado como uma prática de presença\, troca e leveza\, estimulando a expressão\, a confiança e o bem-estar. Não é necessário ter experiência prévia nem vir em par. \nInformações: \nData: quartas-feiras \nHorário: 17h30 às 18h30 \nFacilitadora: Anderson @baianinho_do_forro \nInscrições: Clique aqui \nInvestimento: \nValor mensal (1x na semana): R$ 110\,00 \nAula avulsa: R$ 35\,00 \n  \nObservação: as aulas acontecerão somente mediante a formação da turma. \n  \n  \n  \n 
URL:https://templodoser.org/evento/aulas-regulares-de-forro-quartas-feiras/
LOCATION:Templo Do Ser\, Av. Engenho Velho\, 185\, Ilhabela\, SP\, 11630-000\, Brazil
CATEGORIES:Dança
END:VEVENT
END:VCALENDAR