BEGIN:VCALENDAR
VERSION:2.0
PRODID:-//Templo Do Ser - ECPv6.15.16//NONSGML v1.0//EN
CALSCALE:GREGORIAN
METHOD:PUBLISH
X-WR-CALNAME:Templo Do Ser
X-ORIGINAL-URL:https://templodoser.org
X-WR-CALDESC:Eventos para Templo Do Ser
REFRESH-INTERVAL;VALUE=DURATION:PT1H
X-Robots-Tag:noindex
X-PUBLISHED-TTL:PT1H
BEGIN:VTIMEZONE
TZID:America/Sao_Paulo
BEGIN:STANDARD
TZOFFSETFROM:-0300
TZOFFSETTO:-0300
TZNAME:-03
DTSTART:20210101T000000
END:STANDARD
END:VTIMEZONE
BEGIN:VEVENT
DTSTART;TZID=America/Sao_Paulo:20220714T090000
DTEND;TZID=America/Sao_Paulo:20220714T100000
DTSTAMP:20260423T142339
CREATED:20220513T201656Z
LAST-MODIFIED:20220513T201657Z
UID:10000798-1657789200-1657792800@templodoser.org
SUMMARY:Live no Instagram: Relaxar é preciso!
DESCRIPTION:Live no Instagram: Relaxar é preciso! \nO sono do yogui\, é uma forma de meditação em relaxamento\, onde a mente testemunha o relaxamento do corpo. Proporcionando inúmeros benefícios\, essa prática tem propriedades curativas. O processo nos guia ao nível da existência\, chamados de koshas\, que incluem as camadas física\, mental\, emocional e espiritual\, o que traz alívio de tensão e estresse.\n\nO yoga nidra nos leva a um ponto de equilíbrio\, o que nos faz despertar proporcionando melhoria de todo organismo\, dando espaço para a alegria em viver a vida apreciando o momento presente.\n\n \nData: 14/07/2022(Quinta-feira) \nHorário: 9h (1h de duração) \nFacilitadora: Jennifer Guaraldi
URL:https://templodoser.org/evento/live-no-instagram-relaxar-e-preciso/
CATEGORIES:Live
ATTACH;FMTTYPE=image/jpeg:https://templodoser.org/wp-content/uploads/2022/03/FB_IMG_1652472435237.jpg
END:VEVENT
BEGIN:VEVENT
DTSTART;TZID=America/Sao_Paulo:20220728T100000
DTEND;TZID=America/Sao_Paulo:20220728T110000
DTSTAMP:20260423T142339
CREATED:20220513T202417Z
LAST-MODIFIED:20220513T202419Z
UID:10000446-1659002400-1659006000@templodoser.org
SUMMARY:Live: Yoga o Caminho do Coração
DESCRIPTION:Live: Yoga o Caminho do Coração \nDerivado da palavra em sânscrito “yuj”\, que significa “unir ou integrar”\, Yoga é um conjunto de conhecimentos de mais de 5 mil anos e o “Yoga: O Caminho do Coração”\, tem como propósito levar essa prática milenar a todas as pessoas na busca do despertar da consciência universal e da memória adormecida\, para uma conexão de corpo\, mente e consciência. Utilizamos as ferramentas do Yoga\, que contam com exercícios e técnicas de respiração\, ásanas\, meditação\, alinhamento dos Chakras e automassagem. Assim\, acessar o íntimo do nosso ser e a partir daí\, apenas deixar que aflore o que há de mais bonito e sagrado na nossa existência. \n \nData: 28/07/2022(Quinta-feira) \nHorário: 10h (1h de duração) \nInvestimento: live aberta no Instagram \nFacilitadora: Jennifer Guaraldi @jenniferguaraldi
URL:https://templodoser.org/evento/live-yoga-o-caminho-do-coracao/
CATEGORIES:Live,Yoga
ATTACH;FMTTYPE=image/jpeg:https://templodoser.org/wp-content/uploads/2022/03/FB_IMG_1652472435237.jpg
END:VEVENT
END:VCALENDAR