BEGIN:VCALENDAR
VERSION:2.0
PRODID:-//Templo Do Ser - ECPv6.15.16//NONSGML v1.0//EN
CALSCALE:GREGORIAN
METHOD:PUBLISH
X-ORIGINAL-URL:https://templodoser.org
X-WR-CALDESC:Eventos para Templo Do Ser
REFRESH-INTERVAL;VALUE=DURATION:PT1H
X-Robots-Tag:noindex
X-PUBLISHED-TTL:PT1H
BEGIN:VTIMEZONE
TZID:America/Sao_Paulo
BEGIN:STANDARD
TZOFFSETFROM:-0300
TZOFFSETTO:-0300
TZNAME:-03
DTSTART:20210101T000000
END:STANDARD
END:VTIMEZONE
BEGIN:VEVENT
DTSTART;TZID=America/Sao_Paulo:20221111T120000
DTEND;TZID=America/Sao_Paulo:20221111T130000
DTSTAMP:20260423T085514
CREATED:20220915T183702Z
LAST-MODIFIED:20220915T183702Z
UID:10000467-1668168000-1668171600@templodoser.org
SUMMARY:LIVE: YOGA NIDRA – UMA PAUSA NO ALMOÇO
DESCRIPTION:Data: 11/11/2022 (sexta feira) \nHorário: 12h00 (50min de duração) \nInvestimento: participação da aula até o final \nFacilitadora: Jennifer Guaraldi @jenniferguaraldi \n\nRelaxar e entregar-se ao fluxo da vida\, é o propósito desse encontro! \nYoga Nidra\, o sono do yoga\, é um profundo relaxamento do corpo e da mente\, estabelecendo conexão direta com a frequência do organismo\, o que libera hormônios de bem-estar e alegria. \nUma pequena pausa com efeito restaurador para dar sequência no seu dia!
URL:https://templodoser.org/evento/live-yoga-nidra-uma-pausa-no-almoco/
CATEGORIES:Live
END:VEVENT
END:VCALENDAR