BEGIN:VCALENDAR
VERSION:2.0
PRODID:-//Templo Do Ser - ECPv6.15.16//NONSGML v1.0//EN
CALSCALE:GREGORIAN
METHOD:PUBLISH
X-ORIGINAL-URL:https://templodoser.org/?lang=en
X-WR-CALDESC:Events for Templo Do Ser
REFRESH-INTERVAL;VALUE=DURATION:PT1H
X-Robots-Tag:noindex
X-PUBLISHED-TTL:PT1H
BEGIN:VTIMEZONE
TZID:America/Sao_Paulo
BEGIN:STANDARD
TZOFFSETFROM:-0300
TZOFFSETTO:-0300
TZNAME:-03
DTSTART:20240101T000000
END:STANDARD
END:VTIMEZONE
BEGIN:VEVENT
DTSTART;TZID=America/Sao_Paulo:20251114T080000
DTEND;TZID=America/Sao_Paulo:20251116T210000
DTSTAMP:20260423T121656
CREATED:20250919T185904Z
LAST-MODIFIED:20250919T190225Z
UID:10001361-1763107200-1763326800@templodoser.org
SUMMARY:Immersion Pré-Sentir
DESCRIPTION:Pré-Sentir is a three-day immersion led by Dea Gomes Constantino and Aline Paula da Silva\, designed to prepare men and women for their next personal and professional cycles. More than a retreat\, it’s a structured process: workshops\, dynamics\, and self-discovery practices based on a methodology validated for 18 years\, combining theory\, practice\, experience\, and sharing. \nAt the same time\, the journey is focused on the body: yoga\, meditation\, and breathing\, led by Aline Paula\, provide the necessary support for each immersion with balance and presence. In a challenging year marked by social\, technological\, and relational transformations\, Pré-Sentir is a conscious pause to reorganize body\, mind\, and spirit—without denying reality\, but learning to integrate it. \nThe difference lies in the outcome: each participant takes away not only well-being\, but tangible clarity about the next steps in their life\, career\, and business—leaving with a realistic and achievable roadmap for 2026. \nInformation: \nDate: November 14–16\, 2025\nFacilitator: Dea Gomes Constantino @andreagomes\nFacilitator: Aline Paula @alinepaula_silva\nRegistration: click here \nDea Gomes Constantino is a mentor and strategist in brand\, people\, and business positioning\, specializing in self-awareness applied to business and careers. With nearly two decades of experience in transformation processes for companies\, leaders\, and entrepreneurs\, she works with a validated methodology that integrates theory\, practice\, and experience. Her approach combines self-awareness\, organizational culture\, and branding—rooted in Theory U\, Systemic Phenomenology\, and Pathwork—to generate clarity\, prosperity\, and regenerated connections in the projects she leads. \nAline Paula\, yoga practitioner for over 10 years\, integrative therapist\, certified in India in Integral Yoga and Hatha Vinyasa Yoga\, massage therapist\, physical educator and Reiki practitioner. Her mission is to welcome and guide people on journeys of reconnection with the body\, breath and soul through conscious touch\, sensitive listening and the practice of Yoga as a path.
URL:https://templodoser.org/evento/retiro-pre-sentir/?lang=en
CATEGORIES:Retiro
END:VEVENT
END:VCALENDAR