BEGIN:VCALENDAR
VERSION:2.0
PRODID:-//Templo Do Ser - ECPv6.15.16//NONSGML v1.0//EN
CALSCALE:GREGORIAN
METHOD:PUBLISH
X-ORIGINAL-URL:https://templodoser.org
X-WR-CALDESC:Eventos para Templo Do Ser
REFRESH-INTERVAL;VALUE=DURATION:PT1H
X-Robots-Tag:noindex
X-PUBLISHED-TTL:PT1H
BEGIN:VTIMEZONE
TZID:America/Sao_Paulo
BEGIN:STANDARD
TZOFFSETFROM:-0300
TZOFFSETTO:-0300
TZNAME:-03
DTSTART:20200101T000000
END:STANDARD
END:VTIMEZONE
BEGIN:VEVENT
DTSTART;TZID=America/Sao_Paulo:20210716T120000
DTEND;TZID=America/Sao_Paulo:20210718T170000
DTSTAMP:20260423T193313
CREATED:20210422T181459Z
LAST-MODIFIED:20210422T181459Z
UID:10000627-1626436800-1626627600@templodoser.org
SUMMARY:RETIRO SIMBIOSE de 16 a 18 de julho
DESCRIPTION:Uma jornada de transformação e conexão com seu SER para um restrito grupo de 17 pessoas\, através de práticas que trazem a percepção do corpo\, estudos para elevar a frequência mental e vivências que trarão de volta a conexão com espírito\, sua verdade\, uma reconexão com SUA REAL ESSÊNCIA. \n\nUm olhar amoroso\, para seu TEMPLO SAGRADO\, resgatando o auto-amor\, o auto-respeito e sua integridade. \n\nPara dúvidas\, mais informações e reservas\, contate a equipe da Simbiose \nLink com informações completas do Retiro: \nhttps://gaiongustavo.wixsite.com/simbiose \nContato por: https://gaiongustavo.wixsite.com/simbiose/sobre-mim
URL:https://templodoser.org/evento/retiro-simbiose-de-16-a-18-de-julho/
LOCATION:SP
CATEGORIES:Retiro
END:VEVENT
BEGIN:VEVENT
DTSTART;TZID=America/Sao_Paulo:20210723T120000
DTEND;TZID=America/Sao_Paulo:20210725T170000
DTSTAMP:20260423T193313
CREATED:20210422T181545Z
LAST-MODIFIED:20210506T141926Z
UID:10000629-1627041600-1627232400@templodoser.org
SUMMARY:RETIRO RESTAURAÇÃO 5ª EDIÇÃO
DESCRIPTION:Restaurar a origem\, a essência divina\, o que é puro e inerente do ser humano. Todo ser carrega em si a semente da Paz\, do Amor\, da Harmonia\, cabe a nós derrubar as barreiras que erguemos contra eles\, e esse é o mergulho dessa jornada. \nEsse retiro tem como idealizadora e facilitadora a terapeuta acupunturista Mariana Correia\, que já realizou diversos retiros no Templo Do Ser. \nJennifer Guaraldi\, que é terapeuta integrativa residente do Templo\, também acompanha essa experiência com práticas de yoga dentre outras atividades. \nVenha viver essa imersão em um ambiente de acolhimento\, conforto e alegria\, nos braços da mãe natureza\, com alimentação saudável e consciente\, onde tudo acontece com presença e amor! \nEsse retiro conta com passeios na natureza\, práticas de yoga\, meditação\, dinâmicas e vivências em grupo\, além de muita diversão. Venha\, esse convite é para você\, um chamado para a vida que não espera para acontecer! \n  \nPara dúvidas\, mais informações e reservas contate a idealizadora Mariana Correia. \nTelefone: +55 11 94170-9281 \nFalar com: Mariana Correia
URL:https://templodoser.org/evento/retiro-restauracao-5a-edicao/
LOCATION:SP
CATEGORIES:Retiro
END:VEVENT
END:VCALENDAR