BEGIN:VCALENDAR
VERSION:2.0
PRODID:-//Templo Do Ser - ECPv6.15.16//NONSGML v1.0//EN
CALSCALE:GREGORIAN
METHOD:PUBLISH
X-WR-CALNAME:Templo Do Ser
X-ORIGINAL-URL:https://templodoser.org
X-WR-CALDESC:Eventos para Templo Do Ser
REFRESH-INTERVAL;VALUE=DURATION:PT1H
X-Robots-Tag:noindex
X-PUBLISHED-TTL:PT1H
BEGIN:VTIMEZONE
TZID:America/Sao_Paulo
BEGIN:STANDARD
TZOFFSETFROM:-0300
TZOFFSETTO:-0300
TZNAME:-03
DTSTART:20200101T000000
END:STANDARD
END:VTIMEZONE
BEGIN:VEVENT
DTSTART;TZID=America/Sao_Paulo:20210904T120000
DTEND;TZID=America/Sao_Paulo:20210907T170000
DTSTAMP:20260423T161009
CREATED:20210422T181647Z
LAST-MODIFIED:20210422T181647Z
UID:10000628-1630756800-1631034000@templodoser.org
SUMMARY:RETIRO YOGA E TREKKING
DESCRIPTION:O Retiro Yoga e Trekking conta com práticas de yoga e pranayamas diários conduzidos pela professora Jéssica Oliveira. Os participantes também irão se aventurar numa trilha para uma das praias mais bonitas do Brasil\, a praia do Bonete. A trilha contará com o auxílio de um guia local que presenteará o grupo com seu conhecimento sobre a fauna e flora do local após aproveitar a praia o retorno do grupo será realizado de barco. \n\nPara dúvidas\, mais informações e reservas\, contate a equipe da Travel S/A \nLink do site com informações do retiro: https://www.travelsa.com.br/pacotes/ilha-bela-yoga-trekking-trip/ \nTelefone: +55 11 98197-1042 (Luana)
URL:https://templodoser.org/evento/retiro-yoga-e-trekking/
LOCATION:SP
CATEGORIES:Retiro
END:VEVENT
BEGIN:VEVENT
DTSTART;TZID=America/Sao_Paulo:20210910T140000
DTEND;TZID=America/Sao_Paulo:20210912T160000
DTSTAMP:20260423T161009
CREATED:20210817T173928Z
LAST-MODIFIED:20210817T173928Z
UID:10000757-1631282400-1631462400@templodoser.org
SUMMARY:Yoga Weekend Ilhabela
DESCRIPTION:O propósito do Yoga Weekend é criar uma atmosfera de bem-estar \, através de vivências em grupo de Yoga em meio a natureza.\n\n✦ Aulas de Hatha Yoga\n✦ Meditação guiada\n✦ Desconexão do caos urbano\n✦ Reconexão interior\n✦ Alimentação saudável completa inclusa\n✦ Atmosfera acolhedora\n✦ Passeio cachoeira Três Tombos com guia \nO que está incluso: \n✦ 2 noites de hospedagem na categoria escolhida\n✦ Todas as refeições mencionadas (café\, almoço e jantar)\n✦ Meditações guiadas\n✦ Aulas de Yoga conforme programação\n✦ Mimo surpresa Energy Travel\n✦ Seguro Viagem\n✦ Encontro online via google meet- 06/09: 19h30 às 20h30\n✦ Bônus 1 – PDF Viagens e repertório pessoal (pré-viagem) \nO que não está incluso: \n✦ Refeições não mencionadas\n✦ Transporte até o local\n✦ Despesas de caráter pessoal;\n✦ Serviços e terapias não mencionados no pacote. \nLink para reserva:https://forms.gle/89uzdS468EZhWDCm8\n\nInformações com Juliane Valada – 11998893112
URL:https://templodoser.org/evento/yoga-weekend-ilhabela-10-a-12-setembro-2021/
LOCATION:SP
CATEGORIES:Retiro,Yoga
END:VEVENT
BEGIN:VEVENT
DTSTART;TZID=America/Sao_Paulo:20210922T100000
DTEND;TZID=America/Sao_Paulo:20210926T160000
DTSTAMP:20260423T161009
CREATED:20210622T150940Z
LAST-MODIFIED:20210921T195554Z
UID:10000756-1632304800-1632672000@templodoser.org
SUMMARY:RETIRO – EQUINÓCIO DA PRIMAVERA
DESCRIPTION:Sobre o Retiro: \nA primavera chegou! É tempo de abundância\, prosperidade\, vida que se manifesta…A festa da vida! \nÉ tempo de semearmos as melhores sementes. O solo está fértil\, a luz perfeita\, é festa das flores\, cores\, aromas…A dança do Ser! Ser quem você veio para ser no mundo\, em sua autêntica e melhor versão. E é por esse motivo que nós do Templo Do Ser\, preparamos uma imersão de elevação para essa data tão auspiciosa. Venha celebrar o Equinócio da Primavera conosco\, que a programação está incrível. \nSerão 5 dias de muita alegria\, cura\, renovação\, amor\, acolhimento\, empatia\, boa comida\, festas\, oficinas\, meditação\, yoga\, dança\, música\, vivências\, tudo isso em um ambiente seguro\, confortável\, com Respeito\, Responsabilidade\, Qualidade\, Confiança e Coragem. \nPara dúvidas\, informações e reservas: \nAtendimento Templo Do Ser: 24 horas de Quarta à Segunda \nContato:  \n+55 012 3894-1296  \n+55 012 99736 3846 \nVeja mais detalhes clicando aqui.
URL:https://templodoser.org/evento/celebracao-do-ser-equinocio-da-primavera/
LOCATION:SP
CATEGORIES:Dança,Meditação,Retiro,Vivência,Yoga
ATTACH;FMTTYPE=image/jpeg:https://templodoser.org/wp-content/uploads/2021/06/ImagemEquinocioPromavera2021.jpeg
END:VEVENT
END:VCALENDAR