BEGIN:VCALENDAR
VERSION:2.0
PRODID:-//Templo Do Ser - ECPv6.15.16//NONSGML v1.0//EN
CALSCALE:GREGORIAN
METHOD:PUBLISH
X-WR-CALNAME:Templo Do Ser
X-ORIGINAL-URL:https://templodoser.org
X-WR-CALDESC:Eventos para Templo Do Ser
REFRESH-INTERVAL;VALUE=DURATION:PT1H
X-Robots-Tag:noindex
X-PUBLISHED-TTL:PT1H
BEGIN:VTIMEZONE
TZID:America/Sao_Paulo
BEGIN:STANDARD
TZOFFSETFROM:-0300
TZOFFSETTO:-0300
TZNAME:-03
DTSTART:20200101T000000
END:STANDARD
END:VTIMEZONE
BEGIN:VEVENT
DTSTART;TZID=America/Sao_Paulo:20211001T100000
DTEND;TZID=America/Sao_Paulo:20211003T170000
DTSTAMP:20260423T144502
CREATED:20210921T202112Z
LAST-MODIFIED:20210921T202112Z
UID:10000409-1633082400-1633280400@templodoser.org
SUMMARY:(In Brasil)
DESCRIPTION:Grupo fechado – Vagas esgotadas
URL:https://templodoser.org/evento/in-brasil/
LOCATION:SP
CATEGORIES:Retiro
END:VEVENT
BEGIN:VEVENT
DTSTART;TZID=America/Sao_Paulo:20211008T100000
DTEND;TZID=America/Sao_Paulo:20211010T170000
DTSTAMP:20260423T144502
CREATED:20210921T200123Z
LAST-MODIFIED:20210921T200123Z
UID:10000758-1633687200-1633885200@templodoser.org
SUMMARY:RETIRO RESTAURAÇÃO
DESCRIPTION:Idealizador: Mariana Correia em parceria com o Templo Do Ser \nSobre o Retiro: \nRestaurar a origem\, a essência divina\, o que é puro e inerente do ser humano. Todo ser carrega em si a semente da Paz\, do Amor\, da Harmonia\, cabe a nós derrubar as barreiras que erguemos contra eles\, e esse é o mergulho dessa jornada.  \nEsse retiro tem como idealizadora e facilitadora a terapeuta acupunturista Mariana Correia\, que já realizou diversos retiros no Templo Do Ser. \nJennifer Guaraldi\, que é terapeuta integrativa residente do Templo\, também acompanha essa experiência com práticas de yoga dentre outras atividades. \nVenha viver essa imersão em um ambiente de acolhimento\, conforto e alegria\, nos braços da mãe natureza\, com alimentação saudável e consciente\, onde tudo acontece com presença e amor!  \nEsse retiro conta com passeios na natureza\, práticas de yoga\, meditação\, dinâmicas e vivências em grupo\, além de muita diversão. Venha\, esse convite é para você\, um chamado para a vida que não espera para acontecer! \n  \nPara dúvidas\, mais informações e reservas contate a idealizadora Mariana Correia. \nTelefone: +55 11 94170-9281 \nFalar com: Mariana Correia
URL:https://templodoser.org/evento/retiro-restauracao/
LOCATION:SP
CATEGORIES:Retiro,Vivência,Yoga
END:VEVENT
BEGIN:VEVENT
DTSTART;TZID=America/Sao_Paulo:20211015T100000
DTEND;TZID=America/Sao_Paulo:20211017T170000
DTSTAMP:20260423T144502
CREATED:20210921T200314Z
LAST-MODIFIED:20210921T200314Z
UID:10000759-1634292000-1634490000@templodoser.org
SUMMARY:RETIRO SIMBIOSE
DESCRIPTION:Idealizador: Carolina Steig  \nSobre o Retiro: \nUma jornada de transformação e conexão com seu SER\, através de práticas que trazem a percepção do corpo\, estudos para elevar a frequência mental e vivências que trarão de volta a conexão com espírito\, sua verdade\, uma reconexão com SUA REAL ESSÊNCIA. \nUm olhar amoroso\, para seu TEMPLO SAGRADO\, resgatando o auto-amor\, o auto-respeito e sua integridade. \nPara dúvidas\, mais informações e reservas\, contate a equipe da Simbiose \nLink com informações completas do Retiro: \nContato por: https://www.simbioseretiro.com/ \nTelefone: 11-99205-9622
URL:https://templodoser.org/evento/retiro-simbiose-2/
LOCATION:SP
CATEGORIES:Retiro
END:VEVENT
BEGIN:VEVENT
DTSTART;TZID=America/Sao_Paulo:20211022T100000
DTEND;TZID=America/Sao_Paulo:20211024T170000
DTSTAMP:20260423T144502
CREATED:20210921T200518Z
LAST-MODIFIED:20210921T200518Z
UID:10000760-1634896800-1635094800@templodoser.org
SUMMARY:RETIRO ESPIRITUALIDADE E PROPÓSITO COM ENEAGRAMA
DESCRIPTION:Idealizador: Fabiola Martins \nSobre o Retiro: \nUma Imersão de Espiritualidade e Propósito com Eneagrama\nUm processo de reconexão com a essência através de 05 pilares:\n\nCura através do perdão\nAs energias da mandala do eneagrama\nResgate da criança anterior\nDesapego e luto\nA jornada da alma \nPara dúvidas\, mais informações e reservas\, contate a idealizadores Fabiola Martins. \nTelefone: 19-974166379
URL:https://templodoser.org/evento/retiro-espiritualidade-e-proposito-com-eneagrama/
LOCATION:SP
CATEGORIES:Retiro,Vivência
END:VEVENT
END:VCALENDAR