BEGIN:VCALENDAR
VERSION:2.0
PRODID:-//Templo Do Ser - ECPv6.15.16//NONSGML v1.0//EN
CALSCALE:GREGORIAN
METHOD:PUBLISH
X-WR-CALNAME:Templo Do Ser
X-ORIGINAL-URL:https://templodoser.org
X-WR-CALDESC:Eventos para Templo Do Ser
REFRESH-INTERVAL;VALUE=DURATION:PT1H
X-Robots-Tag:noindex
X-PUBLISHED-TTL:PT1H
BEGIN:VTIMEZONE
TZID:America/Sao_Paulo
BEGIN:STANDARD
TZOFFSETFROM:-0300
TZOFFSETTO:-0300
TZNAME:-03
DTSTART:20200101T000000
END:STANDARD
END:VTIMEZONE
BEGIN:VEVENT
DTSTART;TZID=America/Sao_Paulo:20211105T100000
DTEND;TZID=America/Sao_Paulo:20211107T170000
DTSTAMP:20260423T131408
CREATED:20210921T200639Z
LAST-MODIFIED:20210921T200639Z
UID:10000402-1636106400-1636304400@templodoser.org
SUMMARY:RETIRO RESTAURAÇÃO
DESCRIPTION:Idealizador: Mariana Correia em parceria com o Templo Do Ser \nSobre o Retiro: \nRestaurar a origem\, a essência divina\, o que é puro e inerente do ser humano. Todo ser carrega em si a semente da Paz\, do Amor\, da Harmonia\, cabe a nós derrubar as barreiras que erguemos contra eles\, e esse é o mergulho dessa jornada.  \nEsse retiro tem como idealizadora e facilitadora a terapeuta acupunturista Mariana Correia\, que já realizou diversos retiros no Templo Do Ser. \nJennifer Guaraldi\, que é terapeuta integrativa residente do Templo\, também acompanha essa experiência com práticas de yoga dentre outras atividades. \nVenha viver essa imersão em um ambiente de acolhimento\, conforto e alegria\, nos braços da mãe natureza\, com alimentação saudável e consciente\, onde tudo acontece com presença e amor!  \nEsse retiro conta com passeios na natureza\, práticas de yoga\, meditação\, dinâmicas e vivências em grupo\, além de muita diversão. Venha\, esse convite é para você\, um chamado para a vida que não espera para acontecer! \nPara dúvidas\, mais informações e reservas contate a idealizadora Mariana Correia. \nTelefone: +55 11 94170-9281 \nFalar com: Mariana Correia
URL:https://templodoser.org/evento/retiro-restauracao-2/
LOCATION:SP
CATEGORIES:Retiro,Vivência
END:VEVENT
BEGIN:VEVENT
DTSTART;TZID=America/Sao_Paulo:20211119T100000
DTEND;TZID=America/Sao_Paulo:20211121T170000
DTSTAMP:20260423T131408
CREATED:20210921T200819Z
LAST-MODIFIED:20210921T200819Z
UID:10000404-1637316000-1637514000@templodoser.org
SUMMARY:YOGA WEEKEND ILHABELA - IMERSÃO DE YOGA
DESCRIPTION:Idealizador: Energy Travel Viagens e Turismo \nSobre o Retiro: \nUma imersão para a jornada de cura e transformação com práticas de yoga\, meditações ativas\, danças\, dinâmicas e vivências em grupo. Para uma experiência ainda mais rica\, além do ambiente de amor\, acolhimento e harmonia\, os participantes poderão desfrutar da energia da majestosa natureza. \nAs Experiências: \nAulas de Yoga \nVivências em grupo (praia) \nMeditação \nRoda de conversas \nDesconexão do caos urbano \nConexão interior \nDetox digital com vivência \nPara dúvidas\, mais informações e reservas contate a equipe da Energy Travel \nE-Mail: contato@energytravel.com.br  \nTelefone: +55 11 99889-3112 \nSite: www.energytravel.com.br
URL:https://templodoser.org/evento/yoga-weekend-ilhabela-imersao-de-yoga-2/
LOCATION:SP
CATEGORIES:Retiro,Yoga
END:VEVENT
BEGIN:VEVENT
DTSTART;TZID=America/Sao_Paulo:20211126T100000
DTEND;TZID=America/Sao_Paulo:20211128T170000
DTSTAMP:20260423T131408
CREATED:20210921T200929Z
LAST-MODIFIED:20210921T200929Z
UID:10000406-1637920800-1638118800@templodoser.org
SUMMARY:RETIRO DESPERTAR
DESCRIPTION:Idealizador: Awake Yoga \nSobre o Retiro: \nRetirar-se da rotina para reconectar-se com a sua verdade. Uma experiência de desenvolvimento e crescimento pessoal. Descobrir\, conectar e desfrutar a essência que nos une e ao mesmo tempo nos torna únicos.\nUm espaço onde é possível ser você mesmo\, conectar-se com a forma mais pura de ser e existir. Um momento de realização\, escuta\, autoconhecimento\, aprendizagem e expressão. Um convite para abrir o coração e estabelecer uma ligação mais profunda com nós mesmos\, com os outros e com tudo o que nos cerca. Yoga\, Kirtan\, meditação e banhos de mar. \n\nPara dúvidas\, mais informações e reservas contate a equipe da Awake Yoga \nE-mail:contato@awakeyoga.com.br \nTelefone:(19) 99343 2162 \nSite: https://www.awakeyoga.com.br/event-details/retiro-despertar-ilha-bela
URL:https://templodoser.org/evento/retiro-despertar/
LOCATION:SP
CATEGORIES:Retiro,Yoga
END:VEVENT
END:VCALENDAR