BEGIN:VCALENDAR
VERSION:2.0
PRODID:-//Templo Do Ser - ECPv6.15.16//NONSGML v1.0//EN
CALSCALE:GREGORIAN
METHOD:PUBLISH
X-ORIGINAL-URL:https://templodoser.org
X-WR-CALDESC:Eventos para Templo Do Ser
REFRESH-INTERVAL;VALUE=DURATION:PT1H
X-Robots-Tag:noindex
X-PUBLISHED-TTL:PT1H
BEGIN:VTIMEZONE
TZID:America/Sao_Paulo
BEGIN:STANDARD
TZOFFSETFROM:-0300
TZOFFSETTO:-0300
TZNAME:-03
DTSTART:20200101T000000
END:STANDARD
END:VTIMEZONE
BEGIN:VEVENT
DTSTART;TZID=America/Sao_Paulo:20211203T100000
DTEND;TZID=America/Sao_Paulo:20211205T170000
DTSTAMP:20260423T115106
CREATED:20210921T201045Z
LAST-MODIFIED:20210921T201105Z
UID:10000407-1638525600-1638723600@templodoser.org
SUMMARY:RETIRO BÚSSOLA INTERIOR
DESCRIPTION:Idealizador: Bruna e Thamires \nSobre o Retiro: \nCada um de nós tem o poder de transformar a realidade através do amor de quem nós viemos ser. Podemos escolher fazer diferente\, podemos escolher espalhar as sementes do que quer que for. Mas apenas conectando-se com o desejo do seu coração\, sua alegria e paz verdadeira conseguirão aflorar. Ouse  agir de acordo com o seu sentir. Ouse seguir o plano da sua alma. Assim\, você inspira outras pessoas a também acreditarem em si mesmas e a trazerem o melhor de si para o planeta. Você não precisa se preocupar sobre como difundir a luz no mundo. Tente viver de acordo com sua natureza divina e única\, e o mundo será um lugar melhor por causa disso. A sua Bússola Interior sabe te guiar nesse caminho\, e se sentir perdido é apenas um convite para seguir novos rumos. Sinta! \nPara dúvidas\, mais informações e reservas\, contate a equipe do retiro Bússola Interior: \nBruna Canêdo – Terapia Holística e Autoconhecimento:  \n@bruna_canedo (79) 99138-9928 \nThamires Vieira – Medicina Integrativa e Ayurveda: \n@thamiress (79) 99955-1311
URL:https://templodoser.org/evento/retiro-bussola-interior/
LOCATION:SP
CATEGORIES:Retiro,Vivência
END:VEVENT
BEGIN:VEVENT
DTSTART;TZID=America/Sao_Paulo:20211217T100000
DTEND;TZID=America/Sao_Paulo:20211219T170000
DTSTAMP:20260423T115106
CREATED:20210921T201521Z
LAST-MODIFIED:20210921T201521Z
UID:10000408-1639735200-1639933200@templodoser.org
SUMMARY:RETIRO O SOLSTICIO DE VERÃO
DESCRIPTION:Idealizador: Templo Do Ser \nSobre o Retiro: \nVerão combina com Sol\, praia\, cachoeira\, alegria e diversão. Verão combina com amor\, energia positiva\, união e cura. Verão combina com Retiro no Templo Do Ser! \nVamos celebrar a chegada da estação mais quente do ano\, aquecer o coração\, refrescar a alma\, se permitir a uma pausa e enfim relaxar. Verão é a última estação do ano\, o momento de deixar derreter\, dissolver o que ficou no passado\, deixar ir o que ocupa espaço e dar lugar para o novo que há de vir. \nEsse é um retiro oficial do Templo Do Ser e é com muito entusiasmo que te convidamos para o Retiro O Solstício De Verão\, o nosso último retiro do ano\, para agradecer\, celebrar e se preparar para o novo ano. \nPara nós a troca das estações é um momento muito importante\, por isso sempre marcamos os Solstícios e Equinócios com um retiro para entrar em contato com o que existe de mais sagrado: o íntimo do seu Ser. Afinal\, também\, somos natureza! O nosso corpo recebe constantemente influências dos movimentos dos planetas e do Universo\, olhar com respeito e cuidado pele adentro é o que torna a caminhada mais sábia e prazerosa. \nEsperamos por você com uma programação calorosa\, permita-se\, você merece! \nPara dúvidas\, mais informações e reservas contate a equipe Templo Do Ser: \nInstagram: templodoser.ilhabela \nFacebook: @templodoser.org \nwww.templodoser.org \nTelefones: \n+55 012 3894-1296 \n+55 012 9 9736-3846 – WhatsApp
URL:https://templodoser.org/evento/retiro-o-solsticio-de-verao/
LOCATION:SP
CATEGORIES:Retiro,Vivência
END:VEVENT
END:VCALENDAR