BEGIN:VCALENDAR
VERSION:2.0
PRODID:-//Templo Do Ser - ECPv6.15.16//NONSGML v1.0//EN
CALSCALE:GREGORIAN
METHOD:PUBLISH
X-WR-CALNAME:Templo Do Ser
X-ORIGINAL-URL:https://templodoser.org
X-WR-CALDESC:Eventos para Templo Do Ser
REFRESH-INTERVAL;VALUE=DURATION:PT1H
X-Robots-Tag:noindex
X-PUBLISHED-TTL:PT1H
BEGIN:VTIMEZONE
TZID:America/Sao_Paulo
BEGIN:STANDARD
TZOFFSETFROM:-0200
TZOFFSETTO:-0300
TZNAME:-03
DTSTART:20190217T020000
END:STANDARD
END:VTIMEZONE
BEGIN:VEVENT
DTSTART;VALUE=DATE:20201023
DTEND;VALUE=DATE:20201026
DTSTAMP:20260424T125233
CREATED:20201005T124416Z
LAST-MODIFIED:20201005T124416Z
UID:10000237-1603411200-1603670399@templodoser.org
SUMMARY:Locação do Espaço – Retiro Restauração
DESCRIPTION:Locação do Espaço – Retiro Restauração
URL:https://templodoser.org/evento/locacao-do-espaco-retiro-restauracao/
LOCATION:SP
CATEGORIES:Retiro
END:VEVENT
END:VCALENDAR