BEGIN:VCALENDAR
VERSION:2.0
PRODID:-//Templo Do Ser - ECPv6.15.16//NONSGML v1.0//EN
CALSCALE:GREGORIAN
METHOD:PUBLISH
X-WR-CALNAME:Templo Do Ser
X-ORIGINAL-URL:https://templodoser.org
X-WR-CALDESC:Eventos para Templo Do Ser
REFRESH-INTERVAL;VALUE=DURATION:PT1H
X-Robots-Tag:noindex
X-PUBLISHED-TTL:PT1H
BEGIN:VTIMEZONE
TZID:America/Sao_Paulo
BEGIN:STANDARD
TZOFFSETFROM:-0300
TZOFFSETTO:-0300
TZNAME:-03
DTSTART:20200101T000000
END:STANDARD
END:VTIMEZONE
BEGIN:VEVENT
DTSTART;TZID=America/Sao_Paulo:20210212T000000
DTEND;TZID=America/Sao_Paulo:20210216T000000
DTSTAMP:20260424T054453
CREATED:20210114T202047Z
LAST-MODIFIED:20210114T202047Z
UID:10000238-1613088000-1613433600@templodoser.org
SUMMARY:RETIRO METAMORFOSE – (Locação Templo Do Ser)
DESCRIPTION:O retiro metAMORfose é uma história de compaixão\, fraternidade e amor coletivo de início\, meio e fim\, que foi desenvolvido pensando na transformação do indivíduo e através de vivências meditativas\, artísticas e enérgicas\, trilharemos juntos em um processo que busca ressignificar o aprimoramento do ser em dimensões mais elevadas de consciência. Vemos o retiro como uma hibernação energética onde você\, posterior a isso\, floresce em meio a luz da sua nova e revigorada energia. \nÉ uma oportunidade para todos co-criarmos a nossa visão\, como cada instrumento que compõem uma orquestra\, e esse\, será o momento que iremos compor a nossa transformação. \n\nInformações e reservas: \nEquipe Shasta Om \nContato: Claudiane – (48) 99155-0342
URL:https://templodoser.org/evento/retiro-metamorfose-locacao-templo-do-ser/
LOCATION:SP
CATEGORIES:Retiro
END:VEVENT
END:VCALENDAR