BEGIN:VCALENDAR
VERSION:2.0
PRODID:-//Templo Do Ser - ECPv6.15.16//NONSGML v1.0//EN
CALSCALE:GREGORIAN
METHOD:PUBLISH
X-ORIGINAL-URL:https://templodoser.org
X-WR-CALDESC:Eventos para Templo Do Ser
REFRESH-INTERVAL;VALUE=DURATION:PT1H
X-Robots-Tag:noindex
X-PUBLISHED-TTL:PT1H
BEGIN:VTIMEZONE
TZID:America/Sao_Paulo
BEGIN:STANDARD
TZOFFSETFROM:-0300
TZOFFSETTO:-0300
TZNAME:-03
DTSTART:20210101T000000
END:STANDARD
END:VTIMEZONE
BEGIN:VEVENT
DTSTART;TZID=America/Sao_Paulo:20220318T080000
DTEND;TZID=America/Sao_Paulo:20220320T170000
DTSTAMP:20260423T085157
CREATED:20220119T171258Z
LAST-MODIFIED:20220119T171258Z
UID:10000770-1647590400-1647795600@templodoser.org
SUMMARY:Retiro de Parceiro: Retiro Simbiose
DESCRIPTION:Sobre o Retiro: \nExperienciar o SIMBIOSE\, trará a transformação\, a conexão necessária para esta integração\, buscando abrir percepções\, expandindo a consciência da forma mais amorosa e elevada\, para conseguirmos de fato co-criarmos a vida que sonhamos e merecemos neste planeta. \n\nSerá uma jornada de transformação e conexão com seu SER para um restrito grupo de 17 pessoas\, através de práticas que trazem a percepção do corpo\, estudos para elevar a frequência mental e vivências que trarão de volta a conexão com espírito\, sua verdade\, uma reconexão com SUA REAL ESSÊNCIA. \nUm olhar amoroso\, para seu TEMPLO SAGRADO\, resgatando o auto-amor\, o auto-respeito e sua integridade. \n\nMais Informações sobre o retiro e reservas: \nwww.simbioseretiro.com \n+55 11-9920596222
URL:https://templodoser.org/evento/retiro-de-parceiro-retiro-simbiose/
LOCATION:SP
CATEGORIES:Retiro
END:VEVENT
END:VCALENDAR