BEGIN:VCALENDAR
VERSION:2.0
PRODID:-//Templo Do Ser - ECPv6.15.16//NONSGML v1.0//EN
CALSCALE:GREGORIAN
METHOD:PUBLISH
X-WR-CALNAME:Templo Do Ser
X-ORIGINAL-URL:https://templodoser.org/?lang=en
X-WR-CALDESC:Events for Templo Do Ser
REFRESH-INTERVAL;VALUE=DURATION:PT1H
X-Robots-Tag:noindex
X-PUBLISHED-TTL:PT1H
BEGIN:VTIMEZONE
TZID:America/Sao_Paulo
BEGIN:STANDARD
TZOFFSETFROM:-0300
TZOFFSETTO:-0300
TZNAME:-03
DTSTART:20230101T000000
END:STANDARD
END:VTIMEZONE
BEGIN:VEVENT
DTSTART;TZID=America/Sao_Paulo:20240204T160000
DTEND;TZID=America/Sao_Paulo:20240204T190000
DTSTAMP:20260421T192010
CREATED:20240409T144237Z
LAST-MODIFIED:20240409T144237Z
UID:10000977-1707062400-1707073200@templodoser.org
SUMMARY:COCOA MANTRA EXPERIENCE
DESCRIPTION:Cacau Mantra “the music of the heart” \nIt is an experience that connects the loving celebration of cocoa ceremonies with the vibrational power of mantras. Motivated by the desire to share this alchemical union\, it is an invitation to explore the inner world in cardiac expansion\, the lightness and contagious joy promoted by the mantras and the affectionate movement of Cocoa energy\, create conducive conditions for reconnection with ourselves and with each other. others in celebration of love and life. Music can be prayer and dance can be a divine prayer in action\, through singing and intuitive movements in their free expression.\nWhat will be experienced:\n• Cocoa Ceremony\n• Moments of silence and relaxation\n• Sensory exploration\n• Active Meditation\, sound and movement\n• Live Kirtan with mantras and Elevated Music \nTo participate\, it is not necessary to have any previous experience with cocoa\, nor to know the songs or know how to dance\, just indulge in the experience at your own pace\, everything that is important is inside. \nContraindications:\nFew\, if you have any medical restrictions\, health problems or pregnancy within the third month\, let us know.\nBring your favorite mug\, dress in comfortable clothes and come celebrate with us! \nAbout Paty Sharon:\nTextile artist\, member of the Bhava Om Band\, Guardian of Cocoa\, Massage Therapist\, has practice\, research and studies in body and energy therapies\, mantras and spirituality\, tools that accompany her in her self-knowledge and believes that sharing these instruments can help each person find your inner healer. \nGuest:\nBhava Om Band Member\nBand of Mantras and Devotional Music\, whose purpose is to enable connection with Divine Consciousness and Celebrate life through music. \nDate: 02/04/2024\nTime: 4:00 pm to 7:00 pm\nFacilitator: Paty Sharon\nInstagram: @patysharonn\nInstagram: @cacaumantra\nGuest: Member of Banda Bhava Om\nInstagram: @bandabhavaom \nInvestment:\nBasic: R$ 99.00\nIdeal: R$ 140.00\nProspero: R$ 180.00\n*** minimum 10 participants to carry out the experience \nRegistrations:\nTelephone: (16) 99291-2747 WhatsApp (Direct with the Facilitator)\nRegistration must be done in advance as places are limited.
URL:https://templodoser.org/evento/cocoa-mantra-experience/?lang=en
CATEGORIES:Vivência
ATTACH;FMTTYPE=image/jpeg:https://templodoser.org/wp-content/uploads/2024/01/434836638_929758152486313_403758589977889052_n.jpg
END:VEVENT
END:VCALENDAR