BEGIN:VCALENDAR
VERSION:2.0
PRODID:-//Templo Do Ser - ECPv6.15.16//NONSGML v1.0//EN
CALSCALE:GREGORIAN
METHOD:PUBLISH
X-WR-CALNAME:Templo Do Ser
X-ORIGINAL-URL:https://templodoser.org/?lang=en
X-WR-CALDESC:Events for Templo Do Ser
REFRESH-INTERVAL;VALUE=DURATION:PT1H
X-Robots-Tag:noindex
X-PUBLISHED-TTL:PT1H
BEGIN:VTIMEZONE
TZID:America/Sao_Paulo
BEGIN:STANDARD
TZOFFSETFROM:-0300
TZOFFSETTO:-0300
TZNAME:-03
DTSTART:20230101T000000
END:STANDARD
END:VTIMEZONE
BEGIN:VEVENT
DTSTART;TZID=America/Sao_Paulo:20240310T093000
DTEND;TZID=America/Sao_Paulo:20240310T123000
DTSTAMP:20260421T175035
CREATED:20240404T142354Z
LAST-MODIFIED:20240404T142354Z
UID:10000963-1710063000-1710073800@templodoser.org
SUMMARY:Self-knowledge through the body
DESCRIPTION:Bioenergetics Experience \nTool:\nSomagrama – Understanding the human personality through the body \nInvestment experience:\n1st batch (until 2/20) R$90\n2nd batch (from 2/21 to 3/5) R$120\n3rd batch (from 6/3\, while there are spaces) R$150\n3 free social vacancies for racial and economic representation (aimed at black\, indigenous\, trans people and single mothers) \nInvestment experience + Lunch Sabor Do Ser:\n1st batch (until 2/20) R$142.00\n2nd batch (from 2/21 to 3/5) R$172.00\n3rd batch (from 6/3\, while there are spaces) R$202.00 \nMenu:\nVegetable chaufa (Chino-Peruvian dish\, consisting of pulled rice with cooked vegetables\, moyashi and roasted peanuts in Asian sauce)\nJuices and desserts defined on dates. \nDescriptive:\nChanchal\, among other individual and collective self-knowledge activities\, will bring a Bioenergetics tool called SOMAGRAMA: a way of expressing\, through a drawing\, the projection of your body’s anatomy and the emotional experience lived within it. It is an incredible map to identify the tensions in the muscles and the sensations experienced inside the body-house we inhabit. It is your “inner mirror” brought out with awareness. A beautiful therapeutic tool and a rich source of insights! The basis of the work is based on the fundamentals of Bioenergetic Analysis\, which is an approach to body psychotherapy\, which derives from Psychoanalysis and works with the body and mind as a functional unit. In other words: with the principle that everything that happens in the body\, happens in the mind\, and vice versa. Don’t miss it! Come and make your SOMAGRAMA! A graphic projection of your body’s anatomy and emotional experience. \nLimited spaces! \nFacilitator:\nChanchal is a body psychotherapist in Bioenergetic Analysis – Certified Bioenergetic Therapist (CBT) by the International Institute for Bioenergetic Analysis (IIBA) and IABSP (Brazilian Institute of Bioenergetic Analysis of São Paulo) – for over 10 years in clinical practice (individual care with an approach that derives from Psychoanalysis and brings the body together in the analytical process). For over 15 years she has been exploring various human development tools. She also has extensive experience as a Yoga and Meditation instructor\, with national and international training. After motherhood\, Chanchal turned her studies and field of activity to pregnant women\, postpartum women and mothers\, studying Postpartum Psychology at Instituto Aripe\, among other specializations. 2 years ago she moved from São Paulo to Ilhabela\, starting to offer face-to-face services here. And this is the first time she will offer her work at the Temple of Being! \nDate: 03/10/2024\nOpening hours: from 9:30 am to 12:30 pm (3 hours of experience)\nCreator: @terapeutachanchal \nContact (questions/information):\nChanchal – 11-99309-2041 \nRegistrations: \nhttps://www.sympla.com.br/evento/vivencia-de-bioenergetica-autoconhecimento-atraves-do-corpo/2331200
URL:https://templodoser.org/evento/self-knowledge-through-the-body/?lang=en
CATEGORIES:Vivência
END:VEVENT
END:VCALENDAR